BEGIN:VCALENDAR
PRODID:-//eluceo/ical//2.0/EN
VERSION:2.0
CALSCALE:GREGORIAN
BEGIN:VEVENT
UID:49e790e4521a315f69eae03c61b4be9f
DTSTAMP:20260420T005609Z
SUMMARY:[männliche D-Jugend Finalrunde] EK Köngen  - CVJM  Walddorfhäsla
 ch 2 
URL:https://www.eichenkreuzliga.de/handball/game/id/19629
DTSTART:20260418T140000
DTEND:20260418T150000
LOCATION:Sporthalle\, 72138 Kirchentellinsfurt
END:VEVENT
END:VCALENDAR
