BEGIN:VCALENDAR
PRODID:-//eluceo/ical//2.0/EN
VERSION:2.0
CALSCALE:GREGORIAN
BEGIN:VEVENT
UID:b04776057a85ce8eeccd4436c2a9ccd8
DTSTAMP:20260420T005433Z
SUMMARY:[männliche D-Jugend Finalrunde] EJW Münchingen  - CVJM  Walddorfh
 äslach 2 
URL:https://www.eichenkreuzliga.de/handball/game/id/19630
DTSTART:20260418T150000
DTEND:20260418T160000
LOCATION:Sporthalle\, 72138 Kirchentellinsfurt
END:VEVENT
END:VCALENDAR
