BEGIN:VCALENDAR
PRODID:-//eluceo/ical//2.0/EN
VERSION:2.0
CALSCALE:GREGORIAN
BEGIN:VEVENT
UID:d4c267ac2f2d5c30a045bdc966b2bf02
DTSTAMP:20260420T005510Z
SUMMARY:[männliche D-Jugend Finalrunde] CVJM HB Dußlingen-Gomaringen 1 - 
 EK Köngen 
URL:https://www.eichenkreuzliga.de/handball/game/id/19631
DTSTART:20260418T160000
DTEND:20260418T170000
LOCATION:Sporthalle\, 72138 Kirchentellinsfurt
END:VEVENT
END:VCALENDAR
