BEGIN:VCALENDAR
PRODID:-//eluceo/ical//2.0/EN
VERSION:2.0
CALSCALE:GREGORIAN
BEGIN:VEVENT
UID:f1f6c10eb288d1edf9267165582ed6fc
DTSTAMP:20260420T005717Z
SUMMARY:[männliche E-Jugend Finalrunde] CVJM  Walddorfhäslach  - EK Köng
 en 
URL:https://www.eichenkreuzliga.de/handball/game/id/19632
DTSTART:20260426T133000
DTEND:20260426T143000
LOCATION:Burgschulhalle\, 73257 Köngen
END:VEVENT
END:VCALENDAR
