BEGIN:VCALENDAR
PRODID:-//eluceo/ical//2.0/EN
VERSION:2.0
CALSCALE:GREGORIAN
BEGIN:VEVENT
UID:4680ed9c267ce4db99e2b398c633ab83
DTSTAMP:20260420T005221Z
SUMMARY:[männliche E-Jugend Finalrunde] CVJM HB Dußlingen-Gomaringen 1 - 
 EJW Münchingen 
URL:https://www.eichenkreuzliga.de/handball/game/id/19633
DTSTART:20260426T143000
DTEND:20260426T153000
LOCATION:Burgschulhalle\, 73257 Köngen
END:VEVENT
END:VCALENDAR
