BEGIN:VCALENDAR
PRODID:-//eluceo/ical//2.0/EN
VERSION:2.0
CALSCALE:GREGORIAN
BEGIN:VEVENT
UID:cd8bafb37a27af4721a524266f5b007d
DTSTAMP:20260420T005810Z
SUMMARY:[männliche E-Jugend Finalrunde] EK Testverein  - EK Testverein2 
URL:https://www.eichenkreuzliga.de/handball/game/id/19634
DTSTART:20260426T153000
DTEND:20260426T163000
LOCATION:Burgschulhalle\, 73257 Köngen
END:VEVENT
END:VCALENDAR
