BEGIN:VCALENDAR
PRODID:-//eluceo/ical//2.0/EN
VERSION:2.0
CALSCALE:GREGORIAN
BEGIN:VEVENT
UID:04d1aac6c4b42ff73c0d3a65d2dc9b78
DTSTAMP:20260425T142745Z
SUMMARY:Mixed Liga Liga 2025/26
DESCRIPTION:Teams: CVJM Esslingen\, CVJM Unterensingen
URL:https://www.eichenkreuzliga.de/volleyball/game/id/19776
DTSTART:20251214T000000
DTEND:20251214T010000
LOCATION:Sporthalle\, 71566 Althütte
END:VEVENT
END:VCALENDAR
