BEGIN:VCALENDAR
PRODID:-//eluceo/ical//2.0/EN
VERSION:2.0
CALSCALE:GREGORIAN
BEGIN:VEVENT
UID:47be1811449013e596e03182cee79ff2
DTSTAMP:20260425T141524Z
SUMMARY:Mixed Liga Liga 2025/26
DESCRIPTION:Teams: CVJM Esslingen\, CVJM Unterensingen
URL:https://www.eichenkreuzliga.de/volleyball/game/id/19783
DTSTART:20260118T000000
DTEND:20260118T010000
LOCATION:Sporthalle Fuchsgrube\, 73257 Köngen
END:VEVENT
END:VCALENDAR
