BEGIN:VCALENDAR
PRODID:-//eluceo/ical//2.0/EN
VERSION:2.0
CALSCALE:GREGORIAN
BEGIN:VEVENT
UID:0b236ddb93e6aa033e98155c802d3c27
DTSTAMP:20260422T224642Z
SUMMARY:[Männer Landesliga] EK Köngen  - CVJM Enzweihingen 
URL:https://www.eichenkreuzliga.de/handball/game/id/19798
DTSTART:20260114T203000
DTEND:20260114T213000
LOCATION:Burgschulhalle\, 73257 Köngen
END:VEVENT
END:VCALENDAR
