BEGIN:VCALENDAR
PRODID:-//eluceo/ical//2.0/EN
VERSION:2.0
CALSCALE:GREGORIAN
BEGIN:VEVENT
UID:99ebd2b169b21dd2c4e6c62231628f36
DTSTAMP:20260420T120240Z
SUMMARY:[Frauen Finalrunde] CVJM  Walddorfhäslach  - CVJM HB Dußlingen-Go
 maringen 1
URL:https://www.eichenkreuzliga.de/handball/game/id/19885
DTSTART:20260426T170000
DTEND:20260426T180000
LOCATION:Ballspielhalle\, 72141 Walddorfhäslach
END:VEVENT
END:VCALENDAR
