BEGIN:VCALENDAR
PRODID:-//eluceo/ical//2.0/EN
VERSION:2.0
CALSCALE:GREGORIAN
BEGIN:VEVENT
UID:2b012eae9387a7fbe2150f25e8e1024a
DTSTAMP:20260420T120322Z
SUMMARY:[Frauen Finalrunde] CVJM HB Dußlingen-Gomaringen 2 - CVJM SG Möss
 ingen/Belsen 
URL:https://www.eichenkreuzliga.de/handball/game/id/19886
DTSTART:20260426T150000
DTEND:20260426T160000
LOCATION:Ballspielhalle\, 72141 Walddorfhäslach
END:VEVENT
END:VCALENDAR
