BEGIN:VCALENDAR
PRODID:-//eluceo/ical//2.0/EN
VERSION:2.0
CALSCALE:GREGORIAN
BEGIN:VEVENT
UID:ed05d44aef33db5b5d1bfabbdb8c90dd
DTSTAMP:20260425T184524Z
SUMMARY:[männliche B-Jugend Runde] CVJM Möglingen 1b - EK Köngen 
URL:https://www.eichenkreuzliga.de/handball/game/id/5368
DTSTART:20161203T160000
DTEND:20161203T170000
LOCATION:Stadionhalle\, 71696 Möglingen
END:VEVENT
END:VCALENDAR
