BEGIN:VCALENDAR
PRODID:-//eluceo/ical//2.0/EN
VERSION:2.0
CALSCALE:GREGORIAN
BEGIN:VEVENT
UID:eef331e573d151e29ec6b3fc216f7b4f
DTSTAMP:20260425T220626Z
SUMMARY:[männliche B-Jugend Runde] EK Bernhausen  - CVJM Hagelloch SG Hage
 lloch/Kusterdingen
URL:https://www.eichenkreuzliga.de/handball/game/id/5376
DTSTART:20161022T131500
DTEND:20161022T141500
LOCATION:Elisabeth-Selbert-Gymnasium Halle\, 70794 Bernhausen
END:VEVENT
END:VCALENDAR
