BEGIN:VCALENDAR
PRODID:-//eluceo/ical//2.0/EN
VERSION:2.0
CALSCALE:GREGORIAN
BEGIN:VEVENT
UID:f1db060bcb0e4e6a9be6b5eb47b18b31
DTSTAMP:20260425T220626Z
SUMMARY:[männliche B-Jugend Runde] CVJM HB Dußlingen-Gomaringen  - CVJM M
 öglingen 1b
URL:https://www.eichenkreuzliga.de/handball/game/id/5394
DTSTART:20170121T130000
DTEND:20170121T140000
LOCATION:Hönisch Sporthalle\, 72144 Dusslingen
END:VEVENT
END:VCALENDAR
