BEGIN:VCALENDAR
PRODID:-//eluceo/ical//2.0/EN
VERSION:2.0
CALSCALE:GREGORIAN
BEGIN:VEVENT
UID:eaa1d8ad32b7e12335f1a571a36758a1
DTSTAMP:20260425T220626Z
SUMMARY:[männliche B-Jugend Runde] CVJM Fellbach  - EK Köngen 
URL:https://www.eichenkreuzliga.de/handball/game/id/5403
DTSTART:20170218T164500
DTEND:20170218T174500
LOCATION:Zeppelinhalle\, 70734 Fellbach
END:VEVENT
END:VCALENDAR
