BEGIN:VCALENDAR
PRODID:-//eluceo/ical//2.0/EN
VERSION:2.0
CALSCALE:GREGORIAN
BEGIN:VEVENT
UID:006d94b3589e339df11128b3e2eb96a4
DTSTAMP:20260425T233843Z
SUMMARY:[männliche B-Jugend Runde] CVJM Kusterdingen  - CVJM Fellbach 
URL:https://www.eichenkreuzliga.de/handball/game/id/5436
DTSTART:20170212T160000
DTEND:20170212T170000
LOCATION:Härtensporthalle\, 72127 Kusterdingen
END:VEVENT
END:VCALENDAR
