BEGIN:VCALENDAR
PRODID:-//eluceo/ical//2.0/EN
VERSION:2.0
CALSCALE:GREGORIAN
BEGIN:VEVENT
UID:16a711ae09bed245a3c7d205db004026
DTSTAMP:20260425T184524Z
SUMMARY:[ ]   -  
URL:https://www.eichenkreuzliga.de/handball/game/id/4364
DTSTART:20161119T180000
DTEND:20161119T190000
LOCATION:Hönisch Sporthalle\, 72144 Dusslingen
END:VEVENT
BEGIN:VEVENT
UID:c74a6fdfe934eff26a3cfda5fdfa589d
DTSTAMP:20260425T184524Z
SUMMARY:[männliche D-Jugend Runde] CVJM Hagelloch  - CVJM Kusterdingen 
URL:https://www.eichenkreuzliga.de/handball/game/id/4494
DTSTART:20161119T142500
DTEND:20161119T152500
LOCATION:Hönisch Sporthalle\, 72144 Dusslingen
END:VEVENT
BEGIN:VEVENT
UID:90c2a22b6d50d07292a09e373e2320e2
DTSTAMP:20260425T184524Z
SUMMARY:[männliche D-Jugend Runde] CVJM HB Dußlingen-Gomaringen 1 - CVJM 
 Kusterdingen 
URL:https://www.eichenkreuzliga.de/handball/game/id/4495
DTSTART:20161119T133000
DTEND:20161119T143000
LOCATION:Hönisch Sporthalle\, 72144 Dusslingen
END:VEVENT
BEGIN:VEVENT
UID:4669253514b39c991313a38a84388167
DTSTAMP:20260425T184524Z
SUMMARY:[männliche D-Jugend Runde] CVJM HB Dußlingen-Gomaringen 1 - CVJM 
 Kirchentellinsfurt a.K.
URL:https://www.eichenkreuzliga.de/handball/game/id/4496
DTSTART:20161119T000000
DTEND:20161119T010000
LOCATION:Hönisch Sporthalle\, 72144 Dusslingen
END:VEVENT
BEGIN:VEVENT
UID:9eb1bbbcdc2569a28f4984a5a0577f8f
DTSTAMP:20260425T184524Z
SUMMARY:[männliche D-Jugend Runde] CVJM Hagelloch  - CVJM Kirchentellinsfu
 rt a.K.
URL:https://www.eichenkreuzliga.de/handball/game/id/4497
DTSTART:20161119T000000
DTEND:20161119T010000
LOCATION:Hönisch Sporthalle\, 72144 Dusslingen
END:VEVENT
BEGIN:VEVENT
UID:497972bdec8aeca65f977bf8c19867d3
DTSTAMP:20260425T184524Z
SUMMARY:[männliche D-Jugend Runde] CVJM Hagelloch  - CVJM HB Dußlingen-Go
 maringen 1
URL:https://www.eichenkreuzliga.de/handball/game/id/4563
DTSTART:20161119T150000
DTEND:20161119T160000
LOCATION:Hönisch Sporthalle\, 72144 Dusslingen
END:VEVENT
BEGIN:VEVENT
UID:f7661bcc224883a6ba7b05e11724c3c3
DTSTAMP:20260425T184524Z
SUMMARY:[Frauen Landesliga] CVJM HB Dußlingen-Gomaringen 1 - EK Bernhausen
  
URL:https://www.eichenkreuzliga.de/handball/game/id/5171
DTSTART:20161119T161000
DTEND:20161119T171000
LOCATION:Hönisch Sporthalle\, 72144 Dusslingen
END:VEVENT
BEGIN:VEVENT
UID:555d4e4facf1026b1464d5a5524ea3ed
DTSTAMP:20260425T184524Z
SUMMARY:[weibliche C-Jugend Runde] CVJM HB Dußlingen-Gomaringen 2 - CVJM H
 B Dußlingen-Gomaringen 1
URL:https://www.eichenkreuzliga.de/handball/game/id/5697
DTSTART:20161119T110000
DTEND:20161119T120000
LOCATION:Hönisch Sporthalle\, 72144 Dusslingen
END:VEVENT
BEGIN:VEVENT
UID:26d5e6c9f3c5bb0f1d0db4f786a95708
DTSTAMP:20260425T184524Z
SUMMARY:[Männer Landesliga] CVJM HB Dußlingen-Gomaringen  - EK Bernhausen
  
URL:https://www.eichenkreuzliga.de/handball/game/id/5775
DTSTART:20161119T200000
DTEND:20161119T210000
LOCATION:Hönisch Sporthalle\, 72144 Dusslingen
END:VEVENT
BEGIN:VEVENT
UID:4a639e39adbe1a98c5e0e652132b4b2b
DTSTAMP:20260425T184524Z
SUMMARY:[ ]   -  
URL:https://www.eichenkreuzliga.de/handball/game/id/5987
DTSTART:20161119T140000
DTEND:20161119T150000
LOCATION:Hönisch Sporthalle\, 72144 Dusslingen
END:VEVENT
END:VCALENDAR
