BEGIN:VCALENDAR
PRODID:-//eluceo/ical//2.0/EN
VERSION:2.0
CALSCALE:GREGORIAN
BEGIN:VEVENT
UID:5ec0944cb61e750b843efbfdf3b73f29
DTSTAMP:20260425T235223Z
SUMMARY:[ ]   -  
URL:https://www.eichenkreuzliga.de/handball/game/id/4374
DTSTART:20170325T180000
DTEND:20170325T190000
LOCATION:Hönisch Sporthalle\, 72144 Dusslingen
END:VEVENT
BEGIN:VEVENT
UID:27e52dc8ecd4800719d2ebbe13f7b959
DTSTAMP:20260425T235223Z
SUMMARY:[Frauen Landesliga] CVJM HB Dußlingen-Gomaringen 1 - CVJM Kusterdi
 ngen 
URL:https://www.eichenkreuzliga.de/handball/game/id/5169
DTSTART:20170325T160000
DTEND:20170325T170000
LOCATION:Hönisch Sporthalle\, 72144 Dusslingen
END:VEVENT
BEGIN:VEVENT
UID:e53c3aea19d00425a503cd897a552efd
DTSTAMP:20260425T235223Z
SUMMARY:[männliche B-Jugend Runde] CVJM HB Dußlingen-Gomaringen  - EK Kö
 ngen 
URL:https://www.eichenkreuzliga.de/handball/game/id/5404
DTSTART:20170325T141500
DTEND:20170325T151500
LOCATION:Hönisch Sporthalle\, 72144 Dusslingen
END:VEVENT
END:VCALENDAR
