BEGIN:VCALENDAR
PRODID:-//eluceo/ical//2.0/EN
VERSION:2.0
CALSCALE:GREGORIAN
BEGIN:VEVENT
UID:5d66f9955f7c768dc54bf67f8e8ef5b6
DTSTAMP:20260425T184524Z
SUMMARY:[weibliche E-Jugend Runde] CVJM HB Dußlingen-Gomaringen 1 - EJW M
 ünchingen 
URL:https://www.eichenkreuzliga.de/handball/game/id/4456
DTSTART:20161126T134000
DTEND:20161126T144000
LOCATION:Elisabeth-Selbert-Gymnasium Halle\, 70794 Bernhausen
END:VEVENT
BEGIN:VEVENT
UID:9d649bcfd91a80a20f236af5898bce73
DTSTAMP:20260425T184524Z
SUMMARY:[weibliche E-Jugend Runde] EK Bernhausen  - CVJM HB Dußlingen-Goma
 ringen 1
URL:https://www.eichenkreuzliga.de/handball/game/id/4457
DTSTART:20161126T142500
DTEND:20161126T152500
LOCATION:Elisabeth-Selbert-Gymnasium Halle\, 70794 Bernhausen
END:VEVENT
BEGIN:VEVENT
UID:0abf96d21acfd44d231b2df73d9c57c4
DTSTAMP:20260425T184524Z
SUMMARY:[weibliche E-Jugend Runde] EK Bernhausen  - EJW Münchingen 
URL:https://www.eichenkreuzliga.de/handball/game/id/4458
DTSTART:20161126T130000
DTEND:20161126T140000
LOCATION:Elisabeth-Selbert-Gymnasium Halle\, 70794 Bernhausen
END:VEVENT
BEGIN:VEVENT
UID:13f275c1be302206598f06ba1dd316c1
DTSTAMP:20260425T184524Z
SUMMARY:[ ]   -  
URL:https://www.eichenkreuzliga.de/handball/game/id/4471
DTSTART:20161126T141000
DTEND:20161126T151000
LOCATION:Elisabeth-Selbert-Gymnasium Halle\, 70794 Bernhausen
END:VEVENT
BEGIN:VEVENT
UID:4769877bb721228b9b9012d3413c42a5
DTSTAMP:20260425T184524Z
SUMMARY:[Männer LK 2] EK Bernhausen / Bonlanden - CVJM Kirchentellinsfurt 
URL:https://www.eichenkreuzliga.de/handball/game/id/5073
DTSTART:20161126T181500
DTEND:20161126T191500
LOCATION:Elisabeth-Selbert-Gymnasium Halle\, 70794 Bernhausen
END:VEVENT
BEGIN:VEVENT
UID:02c8684dd5a903170c4790b631bbc400
DTSTAMP:20260425T184524Z
SUMMARY:[Frauen Landesliga] EK Bernhausen  - CVJM Untertürkheim 
URL:https://www.eichenkreuzliga.de/handball/game/id/5351
DTSTART:20161126T163000
DTEND:20161126T173000
LOCATION:Elisabeth-Selbert-Gymnasium Halle\, 70794 Bernhausen
END:VEVENT
BEGIN:VEVENT
UID:faba825790cf5292cdbc521c4afb3590
DTSTAMP:20260425T184524Z
SUMMARY:[männliche B-Jugend Runde] EK Bernhausen  - CVJM Hülben 
URL:https://www.eichenkreuzliga.de/handball/game/id/5379
DTSTART:20161126T150000
DTEND:20161126T160000
LOCATION:Elisabeth-Selbert-Gymnasium Halle\, 70794 Bernhausen
END:VEVENT
BEGIN:VEVENT
UID:a480923fc07ab9c93a3a73331269b022
DTSTAMP:20260425T184524Z
SUMMARY:[weibliche B-Jugend Runde] EK Bernhausen  - CVJM  Walddorfhäslach 
URL:https://www.eichenkreuzliga.de/handball/game/id/5736
DTSTART:20161126T000000
DTEND:20161126T010000
LOCATION:Elisabeth-Selbert-Gymnasium Halle\, 70794 Bernhausen
END:VEVENT
BEGIN:VEVENT
UID:52c198ee4c1d9d0a33071e2c63b5a483
DTSTAMP:20260425T184524Z
SUMMARY:[Männer Landesliga] EK Bernhausen  - CVJM SG Mössingen/Belsen 
URL:https://www.eichenkreuzliga.de/handball/game/id/5787
DTSTART:20161126T200000
DTEND:20161126T210000
LOCATION:Elisabeth-Selbert-Gymnasium Halle\, 70794 Bernhausen
END:VEVENT
END:VCALENDAR
