BEGIN:VCALENDAR
PRODID:-//eluceo/ical//2.0/EN
VERSION:2.0
CALSCALE:GREGORIAN
BEGIN:VEVENT
UID:702a1615f138e7f4c15ab380101a8c16
DTSTAMP:20260425T184524Z
SUMMARY:[männliche D-Jugend Runde] EK Bernhausen 1 - CVJM Untertürkheim 
URL:https://www.eichenkreuzliga.de/handball/game/id/4553
DTSTART:20170114T120000
DTEND:20170114T130000
LOCATION:Elisabeth-Selbert-Gymnasium Halle\, 70794 Bernhausen
END:VEVENT
BEGIN:VEVENT
UID:57a80df80ab375e6afa70d14717ae2e1
DTSTAMP:20260425T184524Z
SUMMARY:[männliche D-Jugend Runde] EK Bernhausen 1 - EJW Münchingen 
URL:https://www.eichenkreuzliga.de/handball/game/id/4554
DTSTART:20170114T141000
DTEND:20170114T151000
LOCATION:Elisabeth-Selbert-Gymnasium Halle\, 70794 Bernhausen
END:VEVENT
BEGIN:VEVENT
UID:8b74c950a8cb31d289b105786a31c769
DTSTAMP:20260425T184524Z
SUMMARY:[männliche D-Jugend Runde] CVJM Untertürkheim  - EK Köngen 
URL:https://www.eichenkreuzliga.de/handball/game/id/4555
DTSTART:20170114T133000
DTEND:20170114T143000
LOCATION:Elisabeth-Selbert-Gymnasium Halle\, 70794 Bernhausen
END:VEVENT
BEGIN:VEVENT
UID:8be4aba5e9a12f25e8bd2b48e76886f5
DTSTAMP:20260425T184524Z
SUMMARY:[männliche D-Jugend Runde] EJW Münchingen  - EK Köngen 
URL:https://www.eichenkreuzliga.de/handball/game/id/4556
DTSTART:20170114T124000
DTEND:20170114T134000
LOCATION:Elisabeth-Selbert-Gymnasium Halle\, 70794 Bernhausen
END:VEVENT
BEGIN:VEVENT
UID:dbc18a5077ce7e0fba5c14b94074cfa7
DTSTAMP:20260425T184524Z
SUMMARY:[Männer LK 2] EK Bernhausen / Bonlanden - EJW Münchingen 
URL:https://www.eichenkreuzliga.de/handball/game/id/5075
DTSTART:20170114T181500
DTEND:20170114T191500
LOCATION:Elisabeth-Selbert-Gymnasium Halle\, 70794 Bernhausen
END:VEVENT
BEGIN:VEVENT
UID:fa407a00e5e052d491ab04a3bfa8c1d4
DTSTAMP:20260425T184524Z
SUMMARY:[Frauen Landesliga] EK Bernhausen  - CVJM SG Mössingen/Belsen 
URL:https://www.eichenkreuzliga.de/handball/game/id/5200
DTSTART:20170114T163000
DTEND:20170114T173000
LOCATION:Elisabeth-Selbert-Gymnasium Halle\, 70794 Bernhausen
END:VEVENT
BEGIN:VEVENT
UID:4da6bf036d647ad8559cce8d6d6e13e4
DTSTAMP:20260425T184524Z
SUMMARY:[ ]   -  
URL:https://www.eichenkreuzliga.de/handball/game/id/5460
DTSTART:20170114T131500
DTEND:20170114T141500
LOCATION:Elisabeth-Selbert-Gymnasium Halle\, 70794 Bernhausen
END:VEVENT
BEGIN:VEVENT
UID:c8cbd32058dc929744e9054bdd7cf4a4
DTSTAMP:20260425T184524Z
SUMMARY:[männliche A-Jugend Runde] EK Bernhausen  - CVJM SG Mössingen/Bel
 sen 
URL:https://www.eichenkreuzliga.de/handball/game/id/5537
DTSTART:20170114T150000
DTEND:20170114T160000
LOCATION:Elisabeth-Selbert-Gymnasium Halle\, 70794 Bernhausen
END:VEVENT
BEGIN:VEVENT
UID:94134df53adcb30aa389bad4080291b0
DTSTAMP:20260425T184524Z
SUMMARY:[Männer Landesliga] EK Bernhausen  - CVJM HB Dußlingen-Gomaringen
  
URL:https://www.eichenkreuzliga.de/handball/game/id/5784
DTSTART:20170114T200000
DTEND:20170114T210000
LOCATION:Elisabeth-Selbert-Gymnasium Halle\, 70794 Bernhausen
END:VEVENT
END:VCALENDAR
