BEGIN:VCALENDAR
PRODID:-//eluceo/ical//2.0/EN
VERSION:2.0
CALSCALE:GREGORIAN
BEGIN:VEVENT
UID:e62a03cbad72afb6d733f6c98d30ba58
DTSTAMP:20260425T235224Z
SUMMARY:[Männer LK 4] CVJM SG Mössingen/Belsen 1c - SG Grunbach Winterbac
 h 
URL:https://www.eichenkreuzliga.de/handball/game/id/5263
DTSTART:20170218T171500
DTEND:20170218T181500
LOCATION:Jahnhalle 2\, 72116 Mössingen
END:VEVENT
BEGIN:VEVENT
UID:7f0229924b76a94b4c33a19465383208
DTSTAMP:20260425T235224Z
SUMMARY:[Frauen Landesliga] CVJM SG Mössingen/Belsen  - CVJM Kusterdingen 
URL:https://www.eichenkreuzliga.de/handball/game/id/5347
DTSTART:20170218T153000
DTEND:20170218T163000
LOCATION:Jahnhalle 2\, 72116 Mössingen
END:VEVENT
BEGIN:VEVENT
UID:055839406e3c2c49749b0ef776f0f3a2
DTSTAMP:20260425T235224Z
SUMMARY:[weibliche C-Jugend Runde] SG Mössingen/Belsen  - CVJM Kusterdinge
 n 
URL:https://www.eichenkreuzliga.de/handball/game/id/5695
DTSTART:20170218T140000
DTEND:20170218T150000
LOCATION:Jahnhalle 2\, 72116 Mössingen
END:VEVENT
END:VCALENDAR
