BEGIN:VCALENDAR
PRODID:-//eluceo/ical//2.0/EN
VERSION:2.0
CALSCALE:GREGORIAN
BEGIN:VEVENT
UID:4b837ecf22ec48955b817f212f964c77
DTSTAMP:20260426T011714Z
SUMMARY:[Frauen Landesliga] CVJM Untertürkheim  - EK Bernhausen 
URL:https://www.eichenkreuzliga.de/handball/game/id/5190
DTSTART:20170218T170000
DTEND:20170218T180000
LOCATION:Lindenschul-Sporthalle Untertürkheim\, 70327 Untertürkheim
END:VEVENT
END:VCALENDAR
