BEGIN:VCALENDAR
PRODID:-//eluceo/ical//2.0/EN
VERSION:2.0
CALSCALE:GREGORIAN
BEGIN:VEVENT
UID:00f9ff2d27b40382f8cc7fc8e21212d8
DTSTAMP:20260423T051312Z
SUMMARY:[ ]   -  
URL:https://www.eichenkreuzliga.de/handball/game/id/11375
DTSTART:20201121T180000
DTEND:20201121T190000
LOCATION:Hönisch Sporthalle\, 72144 Dusslingen
END:VEVENT
BEGIN:VEVENT
UID:5f4558b1b6d5406ce1e90e76b4432df3
DTSTAMP:20260423T051312Z
SUMMARY:[männliche E-Jugend Runde] CVJM HB Dußlingen-Gomaringen 1 - CVJM 
 Fellbach 
URL:https://www.eichenkreuzliga.de/handball/game/id/11420
DTSTART:20201121T140500
DTEND:20201121T150500
LOCATION:Hönisch Sporthalle\, 72144 Dusslingen
END:VEVENT
BEGIN:VEVENT
UID:abe14068a875c37b2a134b1f8be317e3
DTSTAMP:20260423T051312Z
SUMMARY:[männliche E-Jugend Runde] CVJM HB Dußlingen-Gomaringen 2 A.K. - 
 CVJM Fellbach 
URL:https://www.eichenkreuzliga.de/handball/game/id/11421
DTSTART:20201121T150500
DTEND:20201121T160500
LOCATION:Hönisch Sporthalle\, 72144 Dusslingen
END:VEVENT
BEGIN:VEVENT
UID:1cd919d0588b6426ad8dc1af5dc8544e
DTSTAMP:20260423T051312Z
SUMMARY:[männliche E-Jugend Runde] CVJM HB Dußlingen-Gomaringen 1 - CVJM 
 Hagelloch - Kusterdingen 1
URL:https://www.eichenkreuzliga.de/handball/game/id/11422
DTSTART:20201121T121500
DTEND:20201121T131500
LOCATION:Hönisch Sporthalle\, 72144 Dusslingen
END:VEVENT
BEGIN:VEVENT
UID:dd72406949857dd53bf6998b05015b9a
DTSTAMP:20260423T051312Z
SUMMARY:[männliche E-Jugend Runde] CVJM HB Dußlingen-Gomaringen 2 A.K. - 
 CVJM Hagelloch - Kusterdingen 1
URL:https://www.eichenkreuzliga.de/handball/game/id/11423
DTSTART:20201121T130500
DTEND:20201121T140500
LOCATION:Hönisch Sporthalle\, 72144 Dusslingen
END:VEVENT
BEGIN:VEVENT
UID:c77365a97de0f6baa0ef5fc917c08088
DTSTAMP:20260423T051312Z
SUMMARY:[Frauen Landesliga] CVJM HB Dußlingen-Gomaringen 1 - HSG Schönbuc
 h 
URL:https://www.eichenkreuzliga.de/handball/game/id/11647
DTSTART:20201121T200000
DTEND:20201121T210000
LOCATION:Hönisch Sporthalle\, 72144 Dusslingen
END:VEVENT
BEGIN:VEVENT
UID:df02f310d678770682f646362cdd284e
DTSTAMP:20260423T051312Z
SUMMARY:[männliche B-Jugend Runde] CVJM HB Dußlingen-Gomaringen  - CVJM E
 nzweihingen 
URL:https://www.eichenkreuzliga.de/handball/game/id/12888
DTSTART:20201121T160000
DTEND:20201121T170000
LOCATION:Hönisch Sporthalle\, 72144 Dusslingen
END:VEVENT
BEGIN:VEVENT
UID:8be76b599ff6216b14cf9fd3567f8f0e
DTSTAMP:20260423T051312Z
SUMMARY:[ ]   -  
URL:https://www.eichenkreuzliga.de/handball/game/id/13081
DTSTART:20201121T134500
DTEND:20201121T144500
LOCATION:Hönisch Sporthalle\, 72144 Dusslingen
END:VEVENT
END:VCALENDAR
