BEGIN:VCALENDAR
PRODID:-//eluceo/ical//2.0/EN
VERSION:2.0
CALSCALE:GREGORIAN
BEGIN:VEVENT
UID:6e1a193abed7bdf7e2cdaaa7fcfda5f2
DTSTAMP:20260423T052626Z
SUMMARY:[männliche E-Jugend Runde] CVJM Hülben  - CVJM HB Dußlingen-Goma
 ringen 1
URL:https://www.eichenkreuzliga.de/handball/game/id/11497
DTSTART:20210207T130000
DTEND:20210207T140000
LOCATION:Hönisch Sporthalle\, 72144 Dusslingen
END:VEVENT
BEGIN:VEVENT
UID:a17436a188dc96c01bbe78e6876a0af3
DTSTAMP:20260423T052626Z
SUMMARY:[männliche E-Jugend Runde] CVJM HB Dußlingen-Gomaringen 1 - CVJM 
 Kirchentellinsfurt 
URL:https://www.eichenkreuzliga.de/handball/game/id/11498
DTSTART:20210207T155000
DTEND:20210207T165000
LOCATION:Hönisch Sporthalle\, 72144 Dusslingen
END:VEVENT
BEGIN:VEVENT
UID:8c916ba53af554de38808b6eb14444ab
DTSTAMP:20260423T052626Z
SUMMARY:[männliche E-Jugend Runde] CVJM Hülben  - CVJM HB Dußlingen-Goma
 ringen 2 A.K.
URL:https://www.eichenkreuzliga.de/handball/game/id/11499
DTSTART:20210207T135000
DTEND:20210207T145000
LOCATION:Hönisch Sporthalle\, 72144 Dusslingen
END:VEVENT
BEGIN:VEVENT
UID:131cc317af282461571e2ce84d48fcb3
DTSTAMP:20260423T052626Z
SUMMARY:[männliche E-Jugend Runde] CVJM HB Dußlingen-Gomaringen 2 A.K. - 
 CVJM Kirchentellinsfurt 
URL:https://www.eichenkreuzliga.de/handball/game/id/11500
DTSTART:20210207T150000
DTEND:20210207T160000
LOCATION:Hönisch Sporthalle\, 72144 Dusslingen
END:VEVENT
BEGIN:VEVENT
UID:dc8acc296a1f2d83a3341c119bd0c7fb
DTSTAMP:20260423T052626Z
SUMMARY:[weibliche C-Jugend Runde] CVJM HB Dußlingen-Gomaringen 1 - CVJM  
 Walddorfhäslach 
URL:https://www.eichenkreuzliga.de/handball/game/id/12374
DTSTART:20210207T165000
DTEND:20210207T175000
LOCATION:Hönisch Sporthalle\, 72144 Dusslingen
END:VEVENT
BEGIN:VEVENT
UID:785edffacbdc71b22df8ae751f42c0be
DTSTAMP:20260423T052626Z
SUMMARY:[Männer Landesliga] CVJM HB Dußlingen-Gomaringen  - EK Höfingen 
URL:https://www.eichenkreuzliga.de/handball/game/id/12540
DTSTART:20210207T183000
DTEND:20210207T193000
LOCATION:Hönisch Sporthalle\, 72144 Dusslingen
END:VEVENT
BEGIN:VEVENT
UID:0baa742b0c3f48a814c9f71043369d74
DTSTAMP:20260423T052626Z
SUMMARY:[ ]   -  
URL:https://www.eichenkreuzliga.de/handball/game/id/13067
DTSTART:20210207T144000
DTEND:20210207T154000
LOCATION:Hönisch Sporthalle\, 72144 Dusslingen
END:VEVENT
END:VCALENDAR
