BEGIN:VCALENDAR
PRODID:-//eluceo/ical//2.0/EN
VERSION:2.0
CALSCALE:GREGORIAN
BEGIN:VEVENT
UID:818841feefdffc2e40fd1d7f81541551
DTSTAMP:20260423T003133Z
SUMMARY:[männliche D-Jugend Runde] CVJM HB Dußlingen-Gomaringen 1 - CVJM 
 Möglingen 
URL:https://www.eichenkreuzliga.de/handball/game/id/11622
DTSTART:20210228T150000
DTEND:20210228T160000
LOCATION:Hönisch Sporthalle\, 72144 Dusslingen
END:VEVENT
BEGIN:VEVENT
UID:47c7699db19533471ffe4fab3f855116
DTSTAMP:20260423T003133Z
SUMMARY:[männliche D-Jugend Runde] CVJM HB Dußlingen-Gomaringen 2 a.K. - 
 CVJM Möglingen 
URL:https://www.eichenkreuzliga.de/handball/game/id/11623
DTSTART:20210228T160000
DTEND:20210228T170000
LOCATION:Hönisch Sporthalle\, 72144 Dusslingen
END:VEVENT
BEGIN:VEVENT
UID:a6c040ccc84684fd5b938a77e636875c
DTSTAMP:20260423T003133Z
SUMMARY:[männliche D-Jugend Runde] CVJM HB Dußlingen-Gomaringen 1 - EK Be
 rnhausen 1
URL:https://www.eichenkreuzliga.de/handball/game/id/11624
DTSTART:20210228T130000
DTEND:20210228T140000
LOCATION:Hönisch Sporthalle\, 72144 Dusslingen
END:VEVENT
BEGIN:VEVENT
UID:700218ba20b90682b8be23ca65f0da42
DTSTAMP:20260423T003133Z
SUMMARY:[männliche D-Jugend Runde] CVJM HB Dußlingen-Gomaringen 2 a.K. - 
 EK Bernhausen 1
URL:https://www.eichenkreuzliga.de/handball/game/id/11625
DTSTART:20210228T140000
DTEND:20210228T150000
LOCATION:Hönisch Sporthalle\, 72144 Dusslingen
END:VEVENT
BEGIN:VEVENT
UID:167741611f71d1bee26957aa09885ffc
DTSTAMP:20260423T003133Z
SUMMARY:[ ]   -  
URL:https://www.eichenkreuzliga.de/handball/game/id/13139
DTSTART:20210228T173000
DTEND:20210228T183000
LOCATION:Hönisch Sporthalle\, 72144 Dusslingen
END:VEVENT
BEGIN:VEVENT
UID:92420be7482995b4042498e9b019add0
DTSTAMP:20260423T003133Z
SUMMARY:[ ]   -  
URL:https://www.eichenkreuzliga.de/handball/game/id/13140
DTSTART:20210228T144000
DTEND:20210228T154000
LOCATION:Hönisch Sporthalle\, 72144 Dusslingen
END:VEVENT
END:VCALENDAR
