BEGIN:VCALENDAR
PRODID:-//eluceo/ical//2.0/EN
VERSION:2.0
CALSCALE:GREGORIAN
BEGIN:VEVENT
UID:627817340c1ed67d284ad52b5e163999
DTSTAMP:20260423T093453Z
SUMMARY:[weibliche E-Jugend Runde] CVJM HB Dußlingen-Gomaringen 1 - EK Ber
 nhausen 
URL:https://www.eichenkreuzliga.de/handball/game/id/11356
DTSTART:20210417T110000
DTEND:20210417T120000
LOCATION:Hönisch Sporthalle\, 72144 Dusslingen
END:VEVENT
BEGIN:VEVENT
UID:9c98f7dcad5bfcdf6a15c65fd3e86601
DTSTAMP:20260423T093453Z
SUMMARY:[weibliche E-Jugend Runde] CVJM SG Mössingen/Belsen  - CVJM Kirche
 ntellinsfurt 
URL:https://www.eichenkreuzliga.de/handball/game/id/11357
DTSTART:20210417T122000
DTEND:20210417T132000
LOCATION:Hönisch Sporthalle\, 72144 Dusslingen
END:VEVENT
BEGIN:VEVENT
UID:ccdac22d539958ec157fe44b74f7d919
DTSTAMP:20260423T093453Z
SUMMARY:[ ]   -  
URL:https://www.eichenkreuzliga.de/handball/game/id/11371
DTSTART:20210417T131000
DTEND:20210417T141000
LOCATION:Hönisch Sporthalle\, 72144 Dusslingen
END:VEVENT
BEGIN:VEVENT
UID:4d3fc363c1b266f48e9bc82cdd7ad174
DTSTAMP:20260423T093453Z
SUMMARY:[ ]   -  
URL:https://www.eichenkreuzliga.de/handball/game/id/11379
DTSTART:20210417T180000
DTEND:20210417T190000
LOCATION:Hönisch Sporthalle\, 72144 Dusslingen
END:VEVENT
BEGIN:VEVENT
UID:7858a52db18b8a594194e03836646aa8
DTSTAMP:20260423T093453Z
SUMMARY:[weibliche A-Jugend Finalspiele] EK Testverein  - EK Testverein 
URL:https://www.eichenkreuzliga.de/handball/game/id/11998
DTSTART:20210417T140000
DTEND:20210417T150000
LOCATION:Hönisch Sporthalle\, 72144 Dusslingen
END:VEVENT
BEGIN:VEVENT
UID:fe4fd360427d0341dcc871da216c98ee
DTSTAMP:20260423T093453Z
SUMMARY:[weibliche A-Jugend Finalspiele] EK Testverein  - EK Testverein 
URL:https://www.eichenkreuzliga.de/handball/game/id/11999
DTSTART:20210417T160000
DTEND:20210417T170000
LOCATION:Hönisch Sporthalle\, 72144 Dusslingen
END:VEVENT
END:VCALENDAR
