BEGIN:VCALENDAR
PRODID:-//eluceo/ical//2.0/EN
VERSION:2.0
CALSCALE:GREGORIAN
BEGIN:VEVENT
UID:c66363a6f1bf7d162c1c6aae5ac6cea8
DTSTAMP:20260423T062800Z
SUMMARY:[Frauen Landesliga] HSG Schönbuch  - EK Bernhausen 
URL:https://www.eichenkreuzliga.de/handball/game/id/11638
DTSTART:20201107T143000
DTEND:20201107T153000
LOCATION:Schönbuch-Sporthalle\, 71088 Holzgerlingen
END:VEVENT
END:VCALENDAR
