BEGIN:VCALENDAR
PRODID:-//eluceo/ical//2.0/EN
VERSION:2.0
CALSCALE:GREGORIAN
BEGIN:VEVENT
UID:92a534b4bd6e70572b730803dfd05b6a
DTSTAMP:20260423T052626Z
SUMMARY:[männliche C-Jugend Runde] EK Höfingen  - EK Bernhausen 
URL:https://www.eichenkreuzliga.de/handball/game/id/12803
DTSTART:20201121T150000
DTEND:20201121T160000
LOCATION:Strohgäuhalle\, 71229 Höfingen
END:VEVENT
BEGIN:VEVENT
UID:b27644af5de9482e421c9a86718abd2e
DTSTAMP:20260423T052626Z
SUMMARY:[Männer Landesliga] EK Höfingen  - CVJM SG Mössingen/Belsen 
URL:https://www.eichenkreuzliga.de/handball/game/id/13019
DTSTART:20201121T170000
DTEND:20201121T180000
LOCATION:Strohgäuhalle\, 71229 Höfingen
END:VEVENT
END:VCALENDAR
