BEGIN:VCALENDAR
PRODID:-//eluceo/ical//2.0/EN
VERSION:2.0
CALSCALE:GREGORIAN
BEGIN:VEVENT
UID:535475ca2866391d1a1400ad42dd596d
DTSTAMP:20260423T070059Z
SUMMARY:[männliche E-Jugend Runde] CVJM  Walddorfhäslach  - CVJM Fellbach
  
URL:https://www.eichenkreuzliga.de/handball/game/id/11440
DTSTART:20210123T132000
DTEND:20210123T142000
LOCATION:Sporthalle Waldhäuser-Ost\, 72076 Tübingen
END:VEVENT
BEGIN:VEVENT
UID:68535df97b15431fc211ffca499dd974
DTSTAMP:20260423T070059Z
SUMMARY:[männliche E-Jugend Runde] CVJM Hagelloch - Kusterdingen 1 - CVJM 
 Enzweihingen 
URL:https://www.eichenkreuzliga.de/handball/game/id/11441
DTSTART:20210123T160000
DTEND:20210123T170000
LOCATION:Sporthalle Waldhäuser-Ost\, 72076 Tübingen
END:VEVENT
BEGIN:VEVENT
UID:fff16333d43a72e3bf0bc05978aa1186
DTSTAMP:20260423T070059Z
SUMMARY:[männliche E-Jugend Runde] CVJM Enzweihingen  - CVJM Fellbach 
URL:https://www.eichenkreuzliga.de/handball/game/id/11442
DTSTART:20210123T141000
DTEND:20210123T151000
LOCATION:Sporthalle Waldhäuser-Ost\, 72076 Tübingen
END:VEVENT
BEGIN:VEVENT
UID:35fc206b8256df66c14080cb94dc0e04
DTSTAMP:20260423T070059Z
SUMMARY:[männliche E-Jugend Runde] CVJM Hagelloch - Kusterdingen 1 - CVJM 
  Walddorfhäslach 
URL:https://www.eichenkreuzliga.de/handball/game/id/11443
DTSTART:20210123T123000
DTEND:20210123T133000
LOCATION:Sporthalle Waldhäuser-Ost\, 72076 Tübingen
END:VEVENT
BEGIN:VEVENT
UID:96793d14f302ac1cde570ce09dff4229
DTSTAMP:20260423T070059Z
SUMMARY:[männliche E-Jugend Runde] CVJM  Walddorfhäslach  - CVJM Enzweihi
 ngen 
URL:https://www.eichenkreuzliga.de/handball/game/id/11444
DTSTART:20210123T151000
DTEND:20210123T161000
LOCATION:Sporthalle Waldhäuser-Ost\, 72076 Tübingen
END:VEVENT
BEGIN:VEVENT
UID:de50a8abd3caf1f6464704a5b2a76cc9
DTSTAMP:20260423T070059Z
SUMMARY:[Männer Landesliga] CVJM Hagelloch - Kusterdingen 1 - CVJM Möglin
 gen 
URL:https://www.eichenkreuzliga.de/handball/game/id/12485
DTSTART:20210123T190000
DTEND:20210123T200000
LOCATION:Sporthalle Waldhäuser-Ost\, 72076 Tübingen
END:VEVENT
BEGIN:VEVENT
UID:e1bc15baaa59ee7c3729d337b3eddcfe
DTSTAMP:20260423T070059Z
SUMMARY:[ ]   -  
URL:https://www.eichenkreuzliga.de/handball/game/id/13069
DTSTART:20210123T145000
DTEND:20210123T155000
LOCATION:Sporthalle Waldhäuser-Ost\, 72076 Tübingen
END:VEVENT
END:VCALENDAR
