BEGIN:VCALENDAR
PRODID:-//eluceo/ical//2.0/EN
VERSION:2.0
CALSCALE:GREGORIAN
BEGIN:VEVENT
UID:43be12a776221c5ad80817082ca49e96
DTSTAMP:20260423T052626Z
SUMMARY:[männliche C-Jugend Runde] CVJM Untertürkheim  - CVJM Enzweihinge
 n 
URL:https://www.eichenkreuzliga.de/handball/game/id/12831
DTSTART:20210206T140000
DTEND:20210206T150000
LOCATION:Lindenschul-Sporthalle Untertürkheim\, 70327 Untertürkheim
END:VEVENT
END:VCALENDAR
