BEGIN:VCALENDAR
PRODID:-//eluceo/ical//2.0/EN
VERSION:2.0
CALSCALE:GREGORIAN
BEGIN:VEVENT
UID:a3dfaeda6169e7c4773faddf88d3000d
DTSTAMP:20260423T033411Z
SUMMARY:[Frauen Landesliga] CVJM Möglingen  - EK Bernhausen 
URL:https://www.eichenkreuzliga.de/handball/game/id/11658
DTSTART:20210227T180000
DTEND:20210227T190000
LOCATION:Stadionhalle\, 71696 Möglingen
END:VEVENT
BEGIN:VEVENT
UID:e1bc80f446f7740c52277220207c775e
DTSTAMP:20260423T033411Z
SUMMARY:[weibliche A-Jugend Runde] CVJM Möglingen  - EK Bernhausen 
URL:https://www.eichenkreuzliga.de/handball/game/id/12717
DTSTART:20210227T160000
DTEND:20210227T170000
LOCATION:Stadionhalle\, 71696 Möglingen
END:VEVENT
BEGIN:VEVENT
UID:a2c79dcd3bea2d7f01a65a897990f752
DTSTAMP:20260423T033411Z
SUMMARY:[männliche B-Jugend Runde] CVJM Möglingen  - CVJM HB Dußlingen-G
 omaringen 
URL:https://www.eichenkreuzliga.de/handball/game/id/12924
DTSTART:20210227T140000
DTEND:20210227T150000
LOCATION:Stadionhalle\, 71696 Möglingen
END:VEVENT
BEGIN:VEVENT
UID:c102031710ae814ea1a81ab6cd999077
DTSTAMP:20260423T033411Z
SUMMARY:[ ]   -  
URL:https://www.eichenkreuzliga.de/handball/game/id/13131
DTSTART:20210227T200000
DTEND:20210227T210000
LOCATION:Stadionhalle\, 71696 Möglingen
END:VEVENT
END:VCALENDAR
