BEGIN:VCALENDAR
PRODID:-//eluceo/ical//2.0/EN
VERSION:2.0
CALSCALE:GREGORIAN
BEGIN:VEVENT
UID:12768f89ee5ad59d052816bf1be50303
DTSTAMP:20260423T051312Z
SUMMARY:[Männer LK2] CVJM Enzweihingen  - CVJM SG Mössingen/Belsen 1b
URL:https://www.eichenkreuzliga.de/handball/game/id/12555
DTSTART:20210313T180000
DTEND:20210313T190000
LOCATION:Schulsporthalle\, 71665 Enzweihingen
END:VEVENT
END:VCALENDAR
