BEGIN:VCALENDAR
PRODID:-//eluceo/ical//2.0/EN
VERSION:2.0
CALSCALE:GREGORIAN
BEGIN:VEVENT
UID:d88fed4b9a1c934bee9abda2629109a0
DTSTAMP:20260423T064803Z
SUMMARY:[männliche C-Jugend Runde] CVJM Untertürkheim  - EK Bernhausen 
URL:https://www.eichenkreuzliga.de/handball/game/id/12838
DTSTART:20210320T140000
DTEND:20210320T150000
LOCATION:Lindenschul-Sporthalle Untertürkheim\, 70327 Untertürkheim
END:VEVENT
END:VCALENDAR
