BEGIN:VCALENDAR
PRODID:-//eluceo/ical//2.0/EN
VERSION:2.0
CALSCALE:GREGORIAN
BEGIN:VEVENT
UID:ebc6448dfbd210ea4d145a1335b1fc38
DTSTAMP:20260423T052626Z
SUMMARY:[männliche E-Jugend Runde] CVJM Fellbach  - EJW Münchingen 
URL:https://www.eichenkreuzliga.de/handball/game/id/11463
DTSTART:20210327T153000
DTEND:20210327T163000
LOCATION:Zeppelinhalle\, 70734 Fellbach
END:VEVENT
BEGIN:VEVENT
UID:d0271d4057261ca3ffadcce538c28e40
DTSTAMP:20260423T052626Z
SUMMARY:[männliche E-Jugend Runde] CVJM Hagelloch - Kusterdingen 1 - EK Be
 rnhausen 1
URL:https://www.eichenkreuzliga.de/handball/game/id/11464
DTSTART:20210327T133000
DTEND:20210327T143000
LOCATION:Zeppelinhalle\, 70734 Fellbach
END:VEVENT
BEGIN:VEVENT
UID:d8f1caf996abc7c0ffbdb587d11cb007
DTSTAMP:20260423T052626Z
SUMMARY:[männliche E-Jugend Runde] CVJM Hagelloch - Kusterdingen 1 - EJW M
 ünchingen 
URL:https://www.eichenkreuzliga.de/handball/game/id/11465
DTSTART:20210327T143000
DTEND:20210327T153000
LOCATION:Zeppelinhalle\, 70734 Fellbach
END:VEVENT
BEGIN:VEVENT
UID:a45ff1d25c924c369f2b80e79fee9da5
DTSTAMP:20260423T052626Z
SUMMARY:[männliche E-Jugend Runde] CVJM Fellbach  - EK Bernhausen 1
URL:https://www.eichenkreuzliga.de/handball/game/id/11466
DTSTART:20210327T123000
DTEND:20210327T133000
LOCATION:Zeppelinhalle\, 70734 Fellbach
END:VEVENT
BEGIN:VEVENT
UID:40bac6a5f00e6f09388d58148310477b
DTSTAMP:20260423T052626Z
SUMMARY:[männliche C-Jugend Runde] CVJM Fellbach  - CVJM HB Dußlingen-Gom
 aringen 1
URL:https://www.eichenkreuzliga.de/handball/game/id/12824
DTSTART:20210327T163000
DTEND:20210327T173000
LOCATION:Zeppelinhalle\, 70734 Fellbach
END:VEVENT
BEGIN:VEVENT
UID:1d405d1aa7b0ba6110b68a7c678d72eb
DTSTAMP:20260423T052626Z
SUMMARY:[männliche A-Jugend Runde] CVJM Fellbach  - EK Höfingen 
URL:https://www.eichenkreuzliga.de/handball/game/id/13122
DTSTART:20210327T183000
DTEND:20210327T193000
LOCATION:Zeppelinhalle\, 70734 Fellbach
END:VEVENT
BEGIN:VEVENT
UID:58a0981367cd0cc5b2a5af6b22c14a12
DTSTAMP:20260423T052626Z
SUMMARY:[ ]   -  
URL:https://www.eichenkreuzliga.de/handball/game/id/13123
DTSTART:20210327T141500
DTEND:20210327T151500
LOCATION:Zeppelinhalle\, 70734 Fellbach
END:VEVENT
END:VCALENDAR
