BEGIN:VCALENDAR
PRODID:-//eluceo/ical//2.0/EN
VERSION:2.0
CALSCALE:GREGORIAN
BEGIN:VEVENT
UID:ed570f603e7aa37cc68f96e17f26d6b2
DTSTAMP:20260423T052626Z
SUMMARY:[Männer Landesliga] CVJM  Walddorfhäslach  - CVJM Flacht 
URL:https://www.eichenkreuzliga.de/handball/game/id/13014
DTSTART:20210502T170000
DTEND:20210502T180000
LOCATION:Ballspielhalle\, 72141 Walddorfhäslach
END:VEVENT
END:VCALENDAR
