BEGIN:VCALENDAR
PRODID:-//eluceo/ical//2.0/EN
VERSION:2.0
CALSCALE:GREGORIAN
BEGIN:VEVENT
UID:ac1d27cd4eb19b53dc4f3a1ba5e3ac44
DTSTAMP:20260421T080955Z
SUMMARY:[Frauen Landesliga] CVJM Hagelloch - Kusterdingen - CVJM  Walddorfh
 äslach 
URL:https://www.eichenkreuzliga.de/handball/game/id/16344
DTSTART:20240120T154500
DTEND:20240120T164500
LOCATION:Sporthalle Waldhäuser-Ost\, 72076 Tübingen
END:VEVENT
BEGIN:VEVENT
UID:42708aed9db50e447a6ac9cee020504a
DTSTAMP:20260421T080955Z
SUMMARY:[Männer Landesliga] CVJM Hagelloch - Kusterdingen 1 - CVJM HB Duß
 lingen-Gomaringen 
URL:https://www.eichenkreuzliga.de/handball/game/id/16828
DTSTART:20240120T190000
DTEND:20240120T200000
LOCATION:Sporthalle Waldhäuser-Ost\, 72076 Tübingen
END:VEVENT
BEGIN:VEVENT
UID:8dc35b6e835a601cf4b27a1c6200c1c6
DTSTAMP:20260421T080955Z
SUMMARY:[männliche A-Jugend Runde] CVJM Hagelloch SG Hagelloch/Kusterdinge
 n - CVJM HB Dußlingen-Gomaringen 
URL:https://www.eichenkreuzliga.de/handball/game/id/16972
DTSTART:20240120T171500
DTEND:20240120T181500
LOCATION:Sporthalle Waldhäuser-Ost\, 72076 Tübingen
END:VEVENT
END:VCALENDAR
