BEGIN:VCALENDAR
PRODID:-//eluceo/ical//2.0/EN
VERSION:2.0
CALSCALE:GREGORIAN
BEGIN:VEVENT
UID:fc62d3c8783e7a9ee2c2b4f9d982fa9e
DTSTAMP:20260419T123245Z
SUMMARY:[Männer LK2] CVJM Flacht  - CVJM HB Dußlingen-Gomaringen 2
URL:https://www.eichenkreuzliga.de/handball/game/id/16856
DTSTART:20240210T180000
DTEND:20240210T190000
LOCATION:Sporthalle Flacht\, 71287 Weissach
END:VEVENT
END:VCALENDAR
