BEGIN:VCALENDAR
PRODID:-//eluceo/ical//2.0/EN
VERSION:2.0
CALSCALE:GREGORIAN
BEGIN:VEVENT
UID:f300f102abff899e201d344701bcbd4c
DTSTAMP:20260423T090855Z
SUMMARY:[Frauen Landesliga] CVJM SG Mössingen/Belsen  - CVJM Möglingen 
URL:https://www.eichenkreuzliga.de/handball/game/id/16381
DTSTART:20240316T163000
DTEND:20240316T173000
LOCATION:Jahnhalle 2\, 72116 Mössingen
END:VEVENT
BEGIN:VEVENT
UID:6498d9a79ac150cafcfeb844eca3ae95
DTSTAMP:20260423T090855Z
SUMMARY:[Männer Landesliga] CVJM SG Mössingen/Belsen  - CVJM HB Dußlinge
 n-Gomaringen 
URL:https://www.eichenkreuzliga.de/handball/game/id/16796
DTSTART:20240316T183000
DTEND:20240316T193000
LOCATION:Jahnhalle 2\, 72116 Mössingen
END:VEVENT
END:VCALENDAR
