BEGIN:VCALENDAR
PRODID:-//eluceo/ical//2.0/EN
VERSION:2.0
CALSCALE:GREGORIAN
BEGIN:VEVENT
UID:0a02840988fc819378b8f5f343311748
DTSTAMP:20260419T121628Z
SUMMARY:[Männer Landesliga] EK Köngen  - CVJM SG Mössingen/Belsen 
URL:https://www.eichenkreuzliga.de/handball/game/id/16805
DTSTART:20240413T180000
DTEND:20240413T190000
LOCATION:Burgschulhalle\, 73257 Köngen
END:VEVENT
BEGIN:VEVENT
UID:cb1efe602e0aa126b3b55a72f2185e8b
DTSTAMP:20260419T121628Z
SUMMARY:[männliche B-Jugend Finalspiele] CVJM  Walddorfhäslach  - EJW Mü
 nchingen 
URL:https://www.eichenkreuzliga.de/handball/game/id/17199
DTSTART:20240413T140000
DTEND:20240413T150000
LOCATION:Burgschulhalle\, 73257 Köngen
END:VEVENT
BEGIN:VEVENT
UID:bac978c83a664ee263d5d55e1394dc62
DTSTAMP:20260419T121628Z
SUMMARY:[männliche B-Jugend Finalspiele] EK Bernhausen  - CVJM HB Dußling
 en-Gomaringen 
URL:https://www.eichenkreuzliga.de/handball/game/id/17200
DTSTART:20240413T153000
DTEND:20240413T163000
LOCATION:Burgschulhalle\, 73257 Köngen
END:VEVENT
END:VCALENDAR
