BEGIN:VCALENDAR
PRODID:-//eluceo/ical//2.0/EN
VERSION:2.0
CALSCALE:GREGORIAN
BEGIN:VEVENT
UID:02faae7525b0f4d4c58755e261be1183
DTSTAMP:20260419T120811Z
SUMMARY:[Frauen Landesliga] CVJM  Walddorfhäslach  - EK Bernhausen 
URL:https://www.eichenkreuzliga.de/handball/game/id/16341
DTSTART:20240420T150000
DTEND:20240420T160000
LOCATION:Ballspielhalle\, 72141 Walddorfhäslach
END:VEVENT
BEGIN:VEVENT
UID:9f49ef45137f234a22cde85ab76d6ec1
DTSTAMP:20260419T120811Z
SUMMARY:[weibliche D-Jugend Runde] EK Bernhausen  - CVJM Kusterdingen e.V. 
URL:https://www.eichenkreuzliga.de/handball/game/id/16605
DTSTART:20240420T133000
DTEND:20240420T143000
LOCATION:Ballspielhalle\, 72141 Walddorfhäslach
END:VEVENT
BEGIN:VEVENT
UID:b945689a7c746fc3d31935abbfc1c41e
DTSTAMP:20260419T120811Z
SUMMARY:[weibliche D-Jugend Runde] CVJM Kusterdingen e.V.  - CVJM HB Dußli
 ngen-Gomaringen 1
URL:https://www.eichenkreuzliga.de/handball/game/id/16606
DTSTART:20240420T114500
DTEND:20240420T124500
LOCATION:Ballspielhalle\, 72141 Walddorfhäslach
END:VEVENT
BEGIN:VEVENT
UID:d1eb3544725f3ec9596feeccb6a5b0bc
DTSTAMP:20260419T120811Z
SUMMARY:[weibliche D-Jugend Runde] CVJM  Walddorfhäslach  - CVJM HB Dußli
 ngen-Gomaringen 1
URL:https://www.eichenkreuzliga.de/handball/game/id/16607
DTSTART:20240420T124500
DTEND:20240420T134500
LOCATION:Ballspielhalle\, 72141 Walddorfhäslach
END:VEVENT
BEGIN:VEVENT
UID:edb465d8602c9e9754253e2fa21235ad
DTSTAMP:20260419T120811Z
SUMMARY:[weibliche D-Jugend Runde] CVJM  Walddorfhäslach  - EK Bernhausen 
URL:https://www.eichenkreuzliga.de/handball/game/id/16608
DTSTART:20240420T110000
DTEND:20240420T120000
LOCATION:Ballspielhalle\, 72141 Walddorfhäslach
END:VEVENT
BEGIN:VEVENT
UID:f143207d4be173c2fcfbba37b7959f0a
DTSTAMP:20260419T120811Z
SUMMARY:[ ]   -  
URL:https://www.eichenkreuzliga.de/handball/game/id/16618
DTSTART:20240420T123000
DTEND:20240420T133000
LOCATION:Ballspielhalle\, 72141 Walddorfhäslach
END:VEVENT
BEGIN:VEVENT
UID:be4dae8bb24e0d17ba1611e6bb11fcc3
DTSTAMP:20260419T120811Z
SUMMARY:[Männer Landesliga] CVJM  Walddorfhäslach  - CVJM SG Mössingen/B
 elsen 
URL:https://www.eichenkreuzliga.de/handball/game/id/16818
DTSTART:20240420T170000
DTEND:20240420T180000
LOCATION:Ballspielhalle\, 72141 Walddorfhäslach
END:VEVENT
END:VCALENDAR
