BEGIN:VCALENDAR
PRODID:-//eluceo/ical//2.0/EN
VERSION:2.0
CALSCALE:GREGORIAN
BEGIN:VEVENT
UID:f30d831416725cf809ee5f26c5192bb0
DTSTAMP:20260419T123256Z
SUMMARY:[Männer LK2] CVJM Plochingen  - CVJM Flacht 
URL:https://www.eichenkreuzliga.de/handball/game/id/16836
DTSTART:20231014T180000
DTEND:20231014T190000
LOCATION:Gymnasiumsporthalle\, 73207 Plochingen
END:VEVENT
END:VCALENDAR
