BEGIN:VCALENDAR
PRODID:-//eluceo/ical//2.0/EN
VERSION:2.0
CALSCALE:GREGORIAN
BEGIN:VEVENT
UID:faf754d848f05877917fbb06a50ad397
DTSTAMP:20260419T123403Z
SUMMARY:[Männer LK2] CVJM Flacht  - EK Bernhausen 
URL:https://www.eichenkreuzliga.de/handball/game/id/17333
DTSTART:20240107T160000
DTEND:20240107T170000
LOCATION:Sporthalle Flacht\, 71287 Weissach
END:VEVENT
END:VCALENDAR
