BEGIN:VCALENDAR
PRODID:-//eluceo/ical//2.0/EN
VERSION:2.0
CALSCALE:GREGORIAN
BEGIN:VEVENT
UID:b4fe03a926ea2192b1505e6fadada0eb
DTSTAMP:20260425T160451Z
SUMMARY:[weibliche C-Jugend Finalrunde] CVJM HB Dußlingen-Gomaringen 1 - E
 K Bernhausen 
URL:https://www.eichenkreuzliga.de/handball/game/id/19319
DTSTART:20260419T130000
DTEND:20260419T140000
LOCATION:Hönisch Sporthalle\, 72144 Dusslingen
END:VEVENT
BEGIN:VEVENT
UID:d05c57b86ce44b474a55206969a3a758
DTSTAMP:20260425T160451Z
SUMMARY:[weibliche C-Jugend Finalrunde] CVJM  Walddorfhäslach  - SG Hagell
 och/Kusterdingen 
URL:https://www.eichenkreuzliga.de/handball/game/id/19320
DTSTART:20260419T143000
DTEND:20260419T153000
LOCATION:Hönisch Sporthalle\, 72144 Dusslingen
END:VEVENT
BEGIN:VEVENT
UID:cc9f7efccdfe1a04326e2dd0a611e2f9
DTSTAMP:20260425T160451Z
SUMMARY:[ ]   -  
URL:https://www.eichenkreuzliga.de/handball/game/id/19321
DTSTART:20260419T153000
DTEND:20260419T163000
LOCATION:Hönisch Sporthalle\, 72144 Dusslingen
END:VEVENT
BEGIN:VEVENT
UID:fbca200745ab4cd312a9b5f6e756d3b6
DTSTAMP:20260425T160451Z
SUMMARY:[männliche C-Jugend Finalrunde] EK Bernhausen  - CVJM HB Dußlinge
 n-Gomaringen 1
URL:https://www.eichenkreuzliga.de/handball/game/id/19626
DTSTART:20260419T163000
DTEND:20260419T173000
LOCATION:Hönisch Sporthalle\, 72144 Dusslingen
END:VEVENT
BEGIN:VEVENT
UID:e58da976ec8d68cef400826a60af983e
DTSTAMP:20260425T160451Z
SUMMARY:[männliche C-Jugend Finalrunde] EK Köngen  - CVJM  Walddorfhäsla
 ch 
URL:https://www.eichenkreuzliga.de/handball/game/id/19627
DTSTART:20260419T180000
DTEND:20260419T190000
LOCATION:Hönisch Sporthalle\, 72144 Dusslingen
END:VEVENT
BEGIN:VEVENT
UID:21fc61fcb41bc08d41bc87ba0dd2321d
DTSTAMP:20260425T160451Z
SUMMARY:[ ]   -  
URL:https://www.eichenkreuzliga.de/handball/game/id/19881
DTSTART:20260419T190000
DTEND:20260419T200000
LOCATION:Hönisch Sporthalle\, 72144 Dusslingen
END:VEVENT
END:VCALENDAR
